BEGIN:VCALENDAR
VERSION:2.0
METHOD:PUBLISH
PRODID:-//hacksw/handcal//NONSGML v1.0//EN
BEGIN:VEVENT
DTSTAMP:20210501T011406Z
DTSTART:20200814T150000Z
DTEND:20200814T170000Z
UID:20200814T150000Z-20200814T170000Z-1304@southbethany.delaware.gov
SUMMARY:Town Council Regular Meeting
DESCRIPTION:Click or tap to open the following PDFs:\n\nAugust 14\, 20
 20\, Town Council Regular Meeting Minutes\n\nAgenda - August 14\, 2020
 \, Town Council Regular Meeting\n\nLeadership Reports:\n\nMayor Report
 \n\nTown Manager and Departments\n\nAttachment to Town Manager Report 
 - PD Monthly Data Report\n\nAttachment to Town Manager Report - July B
 each Patrol Report\n\nAttachment to Town Manager Report - July Code En
 forcement Report\n\nTreasurer Report\n\nCommittee Reports:\n\nCharter 
 and Code Committee\n\nCommunications and Public Relations Committee\n\
 nCommunity Enhancement Committee\n\nThis meeting will be conducted ele
 ctronically pursuant to Governor Carney’s State of Emergency declarati
 on\, effective March 13\, 2020\, as amended.\nTown Hall is closed to t
 he public.\n\nElectronic information necessary for participation:\nDia
 l in using your phone\nUnited States (Toll Free): 1-877-309-2073\nAcce
 ss Code: 443-273-373\nAGENDA\n1. Meeting Called to Order\nA. Announcem
 ent of Absences\n\n2. Public Comment (3-minute limit per speaker)\n\n3
 . Adoption of Minutes\nA. July 10\, 2020\, Town Council Regular Meetin
 g\nB. July 23\, 2020\, Town Council Meeting\nC. July 23\, 2020\, Town 
 Council Executive Session\n\n4. Discussion and possible vote to appoin
 t committee members to the FEMA Ad Hoc Committee\n\n5. Discussion of c
 anal issues and possible solutions\n\n6. Discussion and possible vote 
 on RFPs for beach access walks\n\n7. Leadership Reports – Posted onlin
 e. No reports will be given at the meeting.\nA. Mayor's Report\nB. Tow
 n Manager's Report\nC. Treasurer's Report\n\n8. Committee and Commissi
 on Reports – Posted online. No reports will be given at the meeting.\n
 A. Budget and Finance Committee\nB. Canal Water Quality Committee\nC. 
 Charter and Code Committee\nD. Communications and Public Relations Com
 mittee\nE. Community Enhancement Committee\n\n9. Adjournment\n\nNote: 
 The agenda items\, as listed\, may not be considered in sequence. This
  agenda is subject to change to include additional items including exe
 cutive sessions or the deletion of items including executive sessions 
 which arise at the time of the meeting. 29 Del.C § 10004(e)(2)
X-ALT-DESC;FMTTYPE=text/html:<p><strong>Click or tap to open the follo
 wing PDFs:</strong></p>\n<p><a href=https://southbethany.delaware.gov/
 files/2020/09/August-14-2020-Town-Council-Regular-Meeting-Minutes.pdf 
 target=_blank rel=noopener><strong>August 14\, 2020\, Town Council Reg
 ular Meeting Minutes</strong></a></p>\n<p><strong><a href=https://sout
 hbethany.delaware.gov/files/2020/08/Agenda-August-14-2020-Town-Council
 -Regular-Meeting.pdf target=_blank rel=noopener>Agenda &#8211\; August
  14\, 2020\, Town Council Regular Meeting</a></strong></p>\n<p><strong
 >Leadership Reports:</strong></p>\n<p><strong><a href=https://southbet
 hany.delaware.gov/files/2020/08/Mayor-Report-August-2020.pdf target=_b
 lank rel=noopener>Mayor Report</a></strong></p>\n<p><strong><a href=ht
 tps://southbethany.delaware.gov/files/2020/08/August-14-2020-Manager-a
 nd-Departments-Report.pdf target=_blank rel=noopener>Town Manager and 
 Departments</a></strong></p>\n<p><strong><a href=https://southbethany.
 delaware.gov/files/2020/08/July-2020-PD-Monthly-Report.pdf target=_bla
 nk rel=noopener>Attachment to Town Manager Report &#8211\; PD Monthly 
 Data Report</a></strong></p>\n<p><strong><a href=https://southbethany.
 delaware.gov/files/2020/08/july-2020-beach-patrol-progress-report.pdf 
 target=_blank rel=noopener>Attachment to Town Manager Report &#8211\; 
 July Beach Patrol Report</a></strong></p>\n<p><strong><a href=https://
 southbethany.delaware.gov/files/2020/08/CODE-ENFORCEMENT-REPORT-July-2
 020.pdf target=_blank rel=noopener>Attachment to Town Manager Report &
 #8211\; July Code Enforcement Report</a></strong></p>\n<p><strong><a h
 ref=https://southbethany.delaware.gov/files/2020/08/FY2021july20.Treas
 urer-report.pdf target=_blank rel=noopener>Treasurer Report</a></stron
 g></p>\n<p><strong>Committee Reports:</strong></p>\n<p><strong><a href
 =https://southbethany.delaware.gov/files/2020/08/SBCCC-report-for-TC-m
 eeting-Aug-14-2020.pdf target=_blank rel=noopener>Charter and Code Com
 mittee</a></strong></p>\n<p><strong><a href=https://southbethany.delaw
 are.gov/files/2020/08/Communications-and-Public-Relations-Town-Council
 -Report-8-14-2020.pdf target=_blank rel=noopener>Communications and Pu
 blic Relations Committee</a></strong></p>\n<p><strong><a href=https://
 southbethany.delaware.gov/files/2020/08/CEC-TC-MEETING-REPORT-8-14-20.
 pdf target=_blank rel=noopener>Community Enhancement Committee</a></st
 rong></p>\n<p><strong><span style=color: #ff0000>This meeting will be 
 conducted electronically pursuant to Governor Carney’s State of Emerge
 ncy declaration\, effective March 13\, 2020\, as amended.</span></stro
 ng><br />\n<strong>Town Hall is closed to the public.</strong><br />\n
 <strong><br />\nElectronic information necessary for participation:<br
  />\n</strong><strong>Dial in using your phone</strong><br />\n<strong
 >United States (Toll Free): 1-877-309-2073</strong><br />\n<strong>Acc
 ess Code: 443-273-373</strong></p>\n<p style=text-align: center><stron
 g>AGENDA</strong></p>\n<p>1. Meeting Called to Order<br />\nA. Announc
 ement of Absences</p>\n<p>2. Public Comment (3-minute limit per speake
 r)</p>\n<p>3. Adoption of Minutes<br />\nA. July 10\, 2020\, Town Coun
 cil Regular Meeting<br />\nB. July 23\, 2020\, Town Council Meeting<br
  />\nC. July 23\, 2020\, Town Council Executive Session</p>\n<p>4. Dis
 cussion and possible vote to appoint committee members to the FEMA Ad 
 Hoc Committee</p>\n<p>5. Discussion of canal issues and possible solut
 ions</p>\n<p>6. Discussion and possible vote on RFPs for beach access 
 walks</p>\n<p>7. Leadership Reports – Posted online. No reports will b
 e given at the meeting.<br />\nA. Mayor&#8217\;s Report<br />\nB. Town
  Manager&#8217\;s Report<br />\nC. Treasurer&#8217\;s Report</p>\n<p>8
 . Committee and Commission Reports – Posted online. No reports will be
  given at the meeting.<br />\nA. Budget and Finance Committee<br />\nB
 . Canal Water Quality Committee<br />\nC. Charter and Code Committee<b
 r />\nD. Communications and Public Relations Committee<br />\nE. Commu
 nity Enhancement Committee</p>\n<p>9. Adjournment</p>\n<p>Note: The ag
 enda items\, as listed\, may not be considered in sequence. This agend
 a is subject to change to include additional items including executive
  sessions or the deletion of items including executive sessions which 
 arise at the time of the meeting. 29 Del.C § 10004(e)(2)</p>\n
URL:https://southbethany.delaware.gov/events/town-council-regular-meet
 ing-14/
ATTACH:https://southbethany.delaware.gov/events/town-council-regular-m
 eeting-14/
LOCATION:South Bethany\, \, South Bethany
END:VEVENT
END:VCALENDAR
