BEGIN:VCALENDAR
VERSION:2.0
METHOD:PUBLISH
PRODID:-//hacksw/handcal//NONSGML v1.0//EN
BEGIN:VEVENT
DTSTAMP:20260425T212134Z
DTSTART:20180524T190000Z
DTEND:20180524T200000Z
UID:20180524T190000Z-20180524T200000Z-130@southbethany.delaware.gov
SUMMARY:Town Council Workshop Meeting
DESCRIPTION:May 24\, 2018\, Town Council Workshop Meeting Minutes\n\nR
 evised Agenda - May 24\, 2018\, Town Council Workshop Meeting
X-ALT-DESC;FMTTYPE=text/html:<p><a href=http://southbethany.delaware.g
 ov/files/2018/11/May-24-2018-Town-Council-Workshop-Meeting-Minutes.pdf
 >May 24\, 2018\, Town Council Workshop Meeting Minutes</a></p>\n<p><a 
 href=http://southbethany.delaware.gov/files/2018/11/Revised-Agenda-May
 -24-2018-Town-Council-Workshop-Meeting.pdf>Revised Agenda &#8211\; May
  24\, 2018\, Town Council Workshop Meeting</a></p>\n
URL:https://southbethany.delaware.gov/events/130/town-council-workshop
 -meeting/?lang=en
ATTACH:https://southbethany.delaware.gov/events/130/town-council-works
 hop-meeting/?lang=en
LOCATION:Town Hall\, 402 Evergreen Road\, South Bethany
END:VEVENT
END:VCALENDAR
