BEGIN:VCALENDAR
VERSION:2.0
METHOD:PUBLISH
PRODID:-//hacksw/handcal//NONSGML v1.0//EN
BEGIN:VEVENT
DTSTAMP:20210924T070210Z
DTSTART:20200313T230000Z
DTEND:20200313T230500Z
UID:20200313T230000Z-20200313T230500Z-1264@southbethany.delaware.gov
SUMMARY:Public Hearing Ordinance 198-20
DESCRIPTION:Public Hearing Minutes Ord. 198-20\n\nNotice is hereby giv
 en by the Town Council of the Town of South Bethany that a Public Hear
 ing will be held in the Town Council Meeting Room at the South Bethany
  Town Hall on Friday\, March 13\, 2020\, at 6:00 p.m. to no later than
  6:30 p.m. to receive public input regarding Ordinance 198-20 to amend
  the Code of the Town of South Bethany\, Chapter 145\, Zoning\, Articl
 e IV\, General Provisions\, § 145-9 Vision clearance at corners\, requ
 iring clear vision for vehicle traffic at corner lots. This ordinance 
 is available for review at the South Bethany Town Hall\, 402 Evergreen
  Road\, during regular business hours or by clicking or tapping the li
 nk below. The Regular Town Council Meeting will be held immediately fo
 llowing the Public Hearing.\nSecond Reading Ordinance No. 198-20
X-ALT-DESC;FMTTYPE=text/html:<p><strong><a href=https://southbethany.d
 elaware.gov/files/2020/04/Public-Hearing-Minutes-Ord.-198-20.pdf targe
 t=_blank rel=noopener>Public Hearing Minutes Ord. 198-20</a></strong><
 /p>\n<p>Notice is hereby given by the Town Council of the Town of Sout
 h Bethany that a Public Hearing will be held in the Town Council Meeti
 ng Room at the South Bethany Town Hall on Friday\, March 13\, 2020\, a
 t 6:00 p.m. to no later than 6:30 p.m. to receive public input regardi
 ng Ordinance 198-20 to amend the Code of the Town of South Bethany\, C
 hapter 145\, Zoning\, Article IV\, General Provisions\, § 145-9 Vision
  clearance at corners\, requiring clear vision for vehicle traffic at 
 corner lots. This ordinance is available for review at the South Betha
 ny Town Hall\, 402 Evergreen Road\, during regular business hours or b
 y clicking or tapping the link below. <strong>The Regular Town Council
  Meeting will be held immediately following the Public Hearing.</stron
 g></p>\n<p style=text-align: center><strong><a href=https://southbetha
 ny.delaware.gov/files/2020/03/Second-Reading-Ordinance-No.-198-20.pdf 
 target=_blank rel=noopener>Second Reading Ordinance No. 198-20</a></st
 rong></p>\n
URL:https://southbethany.delaware.gov/events/public-hearing-ordinance-
 198-20/
ATTACH:https://southbethany.delaware.gov/events/public-hearing-ordinan
 ce-198-20/
LOCATION:Town Hall\, 402 Evergreen Road\, South Bethany
END:VEVENT
END:VCALENDAR
