BEGIN:VCALENDAR
VERSION:2.0
METHOD:PUBLISH
PRODID:-//hacksw/handcal//NONSGML v1.0//EN
BEGIN:VEVENT
DTSTAMP:20260425T115524Z
DTSTART:20191211T143000Z
DTEND:20191211T170000Z
UID:20191211T143000Z-20191211T170000Z-1185@southbethany.delaware.gov
SUMMARY:Community Enhancement Committee Meeting
DESCRIPTION:Click or tap to open the following PDFs:\n\nCEC Meeting Su
 mmary and Update 12-13-19\n\nAgenda - December 11\, 2019\, Community E
 nhancement Committee Meeting\nAgenda\n\n\n 	Announcement of participat
 ing CEC Members and acknowledgement of absences\n 	Review and Approval
  of NOVEMBER 2019 CEC Meeting Summary\n 	Comments from property owners
  and CEC members\n 	Update from Department of Public Works - Jon Stiff
 ler\, Public Works\n 	Update on FINAL DRAFT Healthy Walking Map\n 	Upd
 ate on future CEC initiatives: 1) Ocean Drive Art Program and 2) Photo
 graphy/Art Exhibit\n 	Discussion and preparation of FY21 CEC Budget it
 ems and proposed new initiatives\n 	Adjournment for holiday party
X-ALT-DESC;FMTTYPE=text/html:<p><strong>Click or tap to open the follo
 wing PDFs:</strong></p>\n<p><a href=https://southbethany.delaware.gov/
 files/2020/03/CEC-Meeting-Summary-and-Update-12-13-19.pdf target=_blan
 k rel=noopener><strong>CEC Meeting Summary and Update 12-13-19</strong
 ></a></p>\n<p><strong><a href=https://southbethany.delaware.gov/files/
 2019/12/Agenda-December-11-2019-Community-Enhancement-Committee-Meetin
 g.pdf target=_blank rel=noopener>Agenda &#8211\; December 11\, 2019\, 
 Community Enhancement Committee Meeting</a></strong></p>\n<p style=tex
 t-align: center><strong>Agenda</strong></p>\n<ul>\n<li>Announcement of
  participating CEC Members and acknowledgement of absences</li>\n<li>R
 eview and Approval of NOVEMBER 2019 CEC Meeting Summary</li>\n<li>Comm
 ents from property owners and CEC members</li>\n<li>Update from Depart
 ment of Public Works &#8211\; Jon Stiffler\, Public Works</li>\n<li>Up
 date on FINAL DRAFT Healthy Walking Map</li>\n<li>Update on future CEC
  initiatives: 1) Ocean Drive Art Program and 2) Photography/Art Exhibi
 t</li>\n<li>Discussion and preparation of FY21 CEC Budget items and pr
 oposed new initiatives</li>\n<li>Adjournment for holiday party</li>\n<
 /ul>\n
URL:https://southbethany.delaware.gov/events/community-enhancement-com
 mittee-meeting-10/?lang=en
ATTACH:https://southbethany.delaware.gov/events/community-enhancement-
 committee-meeting-10/?lang=en
LOCATION:Town Hall\, 402 Evergreen Road\, South Bethany
END:VEVENT
END:VCALENDAR
