BEGIN:VCALENDAR
VERSION:2.0
METHOD:PUBLISH
PRODID:-//hacksw/handcal//NONSGML v1.0//EN
BEGIN:VEVENT
DTSTAMP:20260425T034725Z
DTSTART:20191115T180000Z
DTEND:20191115T200000Z
UID:20191115T180000Z-20191115T200000Z-1180@southbethany.delaware.gov
SUMMARY:Community Enhancement Committee Meeting
DESCRIPTION:Click or tap to open the following PDFs:\n\nCEC Meeting Fi
 nal Summary 11-15-19\n\nAgenda - November 15\, 2019\, Community Enhanc
 ement Committee Meeting\nAGENDA\n\n\n 	Announcement of participating C
 EC Members and acknowledgement of absences\n 	Review and Approval of S
 EPTEMBER 2019 CEC Meeting Summary\n 	Comments from property owners and
  CEC members\n 	Update from Department of Public Works - Jon Stiffler\
 , Public Works\n 	Review\, Discuss and Vote to approve DRAFT Healthy W
 alking Map\n 	Planning session for Future CEC initiatives: 1) Ocean Dr
 ive Art Program and 2) Photography/Art Exhibit\; and 3) preliminary di
 scussion of FY21 CEC Budget items and proposed initiatives\n 	Plans fo
 r December 11th meeting and holiday party (9:30 am meeting-holiday par
 ty to follow)
X-ALT-DESC;FMTTYPE=text/html:<p><strong>Click or tap to open the follo
 wing PDFs:</strong></p>\n<p><strong><a href=https://southbethany.delaw
 are.gov/files/2020/03/CEC-Meeting-Final-Summary-11-15-19.pdf target=_b
 lank rel=noopener>CEC Meeting Final Summary 11-15-19</a></strong></p>\
 n<p><strong><a href=https://southbethany.delaware.gov/files/2019/11/Ag
 enda-November-15-2019-Community-Enhancement-Committee-Meeting.pdf targ
 et=_blank rel=noopener>Agenda &#8211\; November 15\, 2019\, Community 
 Enhancement Committee Meeting</a></strong></p>\n<p style=text-align: c
 enter><strong>AGENDA</strong></p>\n<ul>\n<li>Announcement of participa
 ting CEC Members and acknowledgement of absences</li>\n<li>Review and 
 Approval of SEPTEMBER 2019 CEC Meeting Summary</li>\n<li>Comments from
  property owners and CEC members</li>\n<li>Update from Department of P
 ublic Works &#8211\; Jon Stiffler\, Public Works</li>\n<li>Review\, Di
 scuss and Vote to approve DRAFT Healthy Walking Map</li>\n<li>Planning
  session for Future CEC initiatives: 1) Ocean Drive Art Program and 2)
  Photography/Art Exhibit\; and 3) preliminary discussion of FY21 CEC B
 udget items and proposed initiatives</li>\n<li>Plans for December 11th
  meeting and holiday party (9:30 am meeting-holiday party to follow)</
 li>\n</ul>\n
URL:https://southbethany.delaware.gov/events/community-enhancement-com
 mittee-meeting-9/?lang=en
ATTACH:https://southbethany.delaware.gov/events/community-enhancement-
 committee-meeting-9/?lang=en
LOCATION:Town Hall\, 402 Evergreen Road\, South Bethany
END:VEVENT
END:VCALENDAR
