BEGIN:VCALENDAR
VERSION:2.0
METHOD:PUBLISH
PRODID:-//hacksw/handcal//NONSGML v1.0//EN
BEGIN:VEVENT
DTSTAMP:20260425T034547Z
DTSTART:20191003T180000Z
DTEND:20191003T200000Z
UID:20191003T180000Z-20191003T200000Z-1143@southbethany.delaware.gov
SUMMARY:Communications and Public Relations Committee Meeting
DESCRIPTION:Click or tap to open the following PDFs:\n\nMinutes - Octo
 ber 3\, 2019\, Communications and Public Relations Committee Meeting\n
 \nAgenda - October 3\, 2019\, Communications and Public Relations Comm
 ittee Meeting
X-ALT-DESC;FMTTYPE=text/html:<p><strong>Click or tap to open the follo
 wing PDFs:</strong></p>\n<p><strong><a href=https://southbethany.delaw
 are.gov/files/2019/12/Minutes-October-3-2019-Communications-and-Public
 -Relations-Committee-Meeting.pdf target=_blank rel=noopener>Minutes &#
 8211\; October 3\, 2019\, Communications and Public Relations Committe
 e Meeting</a></strong></p>\n<p><strong><a href=https://southbethany.de
 laware.gov/files/2019/09/Agenda-October-3-2019-Communications-and-Publ
 ic-Relations-Committee-Meeting.pdf target=_blank rel=noopener>Agenda &
 #8211\; October 3\, 2019\, Communications and Public Relations Committ
 ee Meeting</a></strong></p>\n
URL:https://southbethany.delaware.gov/events/communications-and-public
 -relations-committee-meeting-2/
ATTACH:https://southbethany.delaware.gov/events/communications-and-pub
 lic-relations-committee-meeting-2/
LOCATION:Town Hall\, 402 Evergreen Road\, South Bethany
END:VEVENT
END:VCALENDAR
