BEGIN:VCALENDAR
VERSION:2.0
METHOD:PUBLISH
PRODID:-//hacksw/handcal//NONSGML v1.0//EN
BEGIN:VEVENT
DTSTAMP:20260424T223845Z
DTSTART:20191010T190000Z
DTEND:20191010T213000Z
UID:20191010T190000Z-20191010T213000Z-1138@southbethany.delaware.gov
SUMMARY:Town Council Workshop Meeting
DESCRIPTION:Click or tap to open the following PDF:\n\nOctober 10\, 20
 19\, Town Council Workshop Meeting Minutes\n\nAgenda - October 10\, 20
 19\, Town Council Workshop Meeting\nAGENDA\n1.  Call Meeting to Order 
 (Mayor Saxton)\n2.  Announcement of Absences and/or Remote Access\n3. 
  Adoption of Minutes – September 13\, 2019\, Town Council Regular Meet
 ing\n4.  Update on canals and widgeon grass\n5.  Beach walkways discus
 sion with Mike Jandzen (President\, Aquatic-Marine\, LLC)\n6.  Review 
 and discussion on MOU with Fenwick Island and Ocean View Police Depart
 ments\n7.  Discuss change to take-home vehicle policy (Chief Lovins)\n
 8.  Discuss changing town speed limit to 15 mph (Chief Lovins)\n9.  Pe
 rmit parking update (Chief Lovins and Town Manager)\n10. Discussion of
  possible building renovations to Town Hall\n11. Public Comment Period
 \n12. Adjournment\n\nNote: The agenda items\, as listed\, may not be c
 onsidered in sequence. This agenda is subject to change to include add
 itional items including executive sessions or the deletion of items in
 cluding executive sessions which arise at the time of the meeting. 29 
 Del.C § 10004(e)(2)
X-ALT-DESC;FMTTYPE=text/html:<p><strong>Click or tap to open the follo
 wing PDF:</strong></p>\n<p><a href=https://southbethany.delaware.gov/f
 iles/2019/10/October-10-2019-Town-Council-Workshop-Meeting-Minutes.pdf
  target=_blank rel=noopener><strong>October 10\, 2019\, Town Council W
 orkshop Meeting Minutes</strong></a></p>\n<p><strong><a href=https://s
 outhbethany.delaware.gov/files/2019/10/Agenda-October-10-2019-Town-Cou
 ncil-Workshop-Meeting.pdf target=_blank rel=noopener>Agenda &#8211\; O
 ctober 10\, 2019\, Town Council Workshop Meeting</a></strong></p>\n<p 
 style=text-align: center><strong>AGENDA</strong></p>\n<p>1.&nbsp\; Cal
 l Meeting to Order (Mayor Saxton)<br />\n2.&nbsp\; Announcement of Abs
 ences and/or Remote Access<br />\n3.&nbsp\; Adoption of Minutes – Sept
 ember 13\, 2019\, Town Council Regular Meeting<br />\n4.&nbsp\; Update
  on canals and widgeon grass<br />\n5.&nbsp\; Beach walkways discussio
 n with Mike Jandzen (President\, Aquatic-Marine\, LLC)<br />\n6.&nbsp\
 ; Review and discussion on MOU with Fenwick Island and Ocean View Poli
 ce Departments<br />\n7.&nbsp\; Discuss change to take-home vehicle po
 licy (Chief Lovins)<br />\n8.&nbsp\; Discuss changing town speed limit
  to 15 mph (Chief Lovins)<br />\n9.&nbsp\; Permit parking update (Chie
 f Lovins and Town Manager)<br />\n10. Discussion of possible building 
 renovations to Town Hall<br />\n11. Public Comment Period<br />\n12. A
 djournment</p>\n<p>Note: The agenda items\, as listed\, may not be con
 sidered in sequence. This agenda is subject to change to include addit
 ional items including executive sessions or the deletion of items incl
 uding executive sessions which arise at the time of the meeting. 29 De
 l.C § 10004(e)(2)</p>\n
URL:https://southbethany.delaware.gov/events/town-council-workshop-mee
 ting-6/
ATTACH:https://southbethany.delaware.gov/events/town-council-workshop-
 meeting-6/
LOCATION:Town Hall\, 402 Evergreen Road\, South Bethany
END:VEVENT
END:VCALENDAR
