BEGIN:VCALENDAR
VERSION:2.0
METHOD:PUBLISH
PRODID:-//hacksw/handcal//NONSGML v1.0//EN
BEGIN:VEVENT
DTSTAMP:20210514T011432Z
DTSTART:20170510T180000Z
DTEND:20170510T190000Z
UID:20170510T180000Z-20170510T190000Z-113@southbethany.delaware.gov
SUMMARY:Communications and Public Relations Committee Meeting
DESCRIPTION:Agenda - May 10\, 2017\, Communications and Public Relatio
 ns Committee Meeting\n\nMinutes - May 10\, 2017\, Communications & Pub
 lic Relations Committee
X-ALT-DESC;FMTTYPE=text/html:<p><a href=http://southbethany.delaware.g
 ov/files/2018/11/Agenda-May-10-2017-Communications-and-Public-Relation
 s-Committee-Meeting.pdf>Agenda &#8211\; May 10\, 2017\, Communications
  and Public Relations Committee Meeting</a></p>\n<p><a href=http://sou
 thbethany.delaware.gov/files/2018/11/Minutes-May-10-2017-Communication
 s-Public-Relations-Committee.pdf>Minutes &#8211\; May 10\, 2017\, Comm
 unications &amp\; Public Relations Committee</a></p>\n
URL:https://southbethany.delaware.gov/events/113/communications-and-pu
 blic-relations-committee-meeting/
ATTACH:https://southbethany.delaware.gov/events/113/communications-and
 -public-relations-committee-meeting/
LOCATION:Town Hall\, 402 Evergreen Road\, South Bethany
END:VEVENT
END:VCALENDAR
