BEGIN:VCALENDAR
VERSION:2.0
METHOD:PUBLISH
PRODID:-//hacksw/handcal//NONSGML v1.0//EN
BEGIN:VEVENT
DTSTAMP:20260425T034724Z
DTSTART:20190912T150000Z
DTEND:20190912T170000Z
UID:20190912T150000Z-20190912T170000Z-1078@southbethany.delaware.gov
SUMMARY:Community Enhancement Committee Meeting
DESCRIPTION:Click or tap to open the following PDFs:\n\nCEC Meeting Fi
 nal Summary 9-12-19\n\nAgenda - September 12\, 2019\, Community Enhanc
 ement Committee Meeting\nAgenda\n\n\n 	Announcement of participating C
 EC Members and acknowledgement of absences\n 	Review and Approval of J
 ULY 2019 CEC Meeting Minutes\n 	Comments from property owners and CEC 
 members\n 	Brief review of 2019 ADOPT CONTEST\n 	Update from Departmen
 t of Public Works - Jon Stiffler\, Public Works\n 	Planning session fo
 r Future CEC initiatives: 1) Ocean Drive Art Program\; 2) Photography/
 Art Exhibit\; 3) Healthy Walking Map\n 	Schedule for October and Decem
 ber meetings
X-ALT-DESC;FMTTYPE=text/html:<p><strong>Click or tap to open the follo
 wing PDFs:</strong></p>\n<p><strong><a href=https://southbethany.delaw
 are.gov/files/2020/03/CEC-Meeting-Final-Summary-9-12-19.pdf target=_bl
 ank rel=noopener>CEC Meeting Final Summary 9-12-19</a></strong></p>\n<
 p><a href=https://southbethany.delaware.gov/files/2019/09/Agenda-Septe
 mber-12-2019-Community-Enhancement-Committee-Meeting.pdf target=_blank
  rel=noopener><strong>Agenda &#8211\; September 12\, 2019\, Community 
 Enhancement Committee Meeting</strong></a></p>\n<p style=text-align: c
 enter><strong>Agenda</strong></p>\n<ul>\n<li>Announcement of participa
 ting CEC Members and acknowledgement of absences</li>\n<li>Review and 
 Approval of JULY 2019 CEC Meeting Minutes</li>\n<li>Comments from prop
 erty owners and CEC members</li>\n<li>Brief review of 2019 ADOPT CONTE
 ST</li>\n<li>Update from Department of Public Works &#8211\; Jon Stiff
 ler\, Public Works</li>\n<li>Planning session for Future CEC initiativ
 es: 1) Ocean Drive Art Program\; 2) Photography/Art Exhibit\; 3) Healt
 hy Walking Map</li>\n<li>Schedule for October and December meetings</l
 i>\n</ul>\n
URL:https://southbethany.delaware.gov/events/community-enhancement-com
 mittee-meeting-8/?lang=en
ATTACH:https://southbethany.delaware.gov/events/community-enhancement-
 committee-meeting-8/?lang=en
LOCATION:Town Hall\, 402 Evergreen Road\, South Bethany
END:VEVENT
END:VCALENDAR
