BEGIN:VCALENDAR
VERSION:2.0
METHOD:PUBLISH
PRODID:-//hacksw/handcal//NONSGML v1.0//EN
BEGIN:VEVENT
DTSTAMP:20211001T073520Z
DTSTART:20180126T030000Z
DTEND:20180126T040000Z
UID:20180126T030000Z-20180126T040000Z-105@southbethany.delaware.gov
SUMMARY:Communications and Public Relations Committee Meeting
DESCRIPTION:Agenda - January 25\, 2018\, Communications and Public Rel
 ations Committee Meeting\n\nMinutes - January 25\, 2018\, Communicatio
 ns and Public Relations Committee Meeting
X-ALT-DESC;FMTTYPE=text/html:<p><a href=http://southbethany.delaware.g
 ov/files/2018/11/Agenda-January-25-2018-Communications-and-Public-Rela
 tions-Committee-Meeting.pdf>Agenda &#8211\; January 25\, 2018\, Commun
 ications and Public Relations Committee Meeting</a></p>\n<p><a href=ht
 tp://southbethany.delaware.gov/files/2018/11/Minutes-January-25-2018-C
 ommunications-and-Public-Relations-Committee-Meeting.pdf>Minutes &#821
 1\; January 25\, 2018\, Communications and Public Relations Committee 
 Meeting</a></p>\n
URL:https://southbethany.delaware.gov/events/105/communications-and-pu
 blic-relations-committee-meeting/
ATTACH:https://southbethany.delaware.gov/events/105/communications-and
 -public-relations-committee-meeting/
LOCATION:Town Hall\, 402 Evergreen Road\, South Bethany
END:VEVENT
END:VCALENDAR
