BEGIN:VCALENDAR
VERSION:2.0
METHOD:PUBLISH
PRODID:-//hacksw/handcal//NONSGML v1.0//EN
BEGIN:VEVENT
DTSTAMP:20211001T073508Z
DTSTART:20180309T150000Z
DTEND:20180309T160000Z
UID:20180309T150000Z-20180309T160000Z-101@southbethany.delaware.gov
SUMMARY:Communications and Public Relations Committee Meeting
DESCRIPTION:Minutes - March 9\, 2018\, Communications and Public Relat
 ions Committee Meeting
X-ALT-DESC;FMTTYPE=text/html:<p><a href=http://southbethany.delaware.g
 ov/files/2018/11/Minutes-March-9-2018-Communications-and-Public-Relati
 ons-Committee-Meeting.pdf>Minutes &#8211\; March 9\, 2018\, Communicat
 ions and Public Relations Committee Meeting</a></p>\n
URL:https://southbethany.delaware.gov/events/101/communications-and-pu
 blic-relations-committee-meeting/
ATTACH:https://southbethany.delaware.gov/events/101/communications-and
 -public-relations-committee-meeting/
LOCATION:Town Hall\, 402 Evergreen Road\, South Bethany
END:VEVENT
END:VCALENDAR
