BEGIN:VCALENDAR
VERSION:2.0
METHOD:PUBLISH
PRODID:-//hacksw/handcal//NONSGML v1.0//EN
BEGIN:VEVENT
DTSTAMP:20260425T115526Z
DTSTART:20190718T150000Z
DTEND:20190718T170000Z
UID:20190718T150000Z-20190718T170000Z-1009@southbethany.delaware.gov
SUMMARY:Community Enhancement Committee Meeting
DESCRIPTION:Click or tap to open the following PDFs:\n\nCEC Meeting 7-
 18-19 Final Summary\n\nAgenda - July 18\, 2019\, Community Enhancement
  Committee Meeting\nAgenda\n\n\n 	Announcement of participating CEC Me
 mbers and acknowledgement of absences\n 	Review and Approval of April 
 2019 CEC Meeting Minutes\n 	Comments from property owners and CEC memb
 ers\n 	Brief review of 50th Anniversary events sponsored by CEC\n 	Upd
 ate from Department of Public Works - Jon Stiffler\, Public Works\n 	U
 pdate on 2019 Adopt Contest\n 	Discussion of Future CEC initiatives\n 
 	Schedule for September meeting
X-ALT-DESC;FMTTYPE=text/html:<p>Click or tap to open the following PDF
 s:</p>\n<p><a href=https://southbethany.delaware.gov/files/2019/09/CEC
 -Meeting-7-18-19-Final-Summary.pdf target=_blank rel=noopener><strong>
 CEC Meeting 7-18-19 Final Summary</strong></a></p>\n<p><a href=https:/
 /southbethany.delaware.gov/files/2019/07/Agenda-July-18-2019-Community
 -Enhancement-Committee-Meeting.pdf target=_blank rel=noopener><strong>
 Agenda &#8211\; July 18\, 2019\, Community Enhancement Committee Meeti
 ng</strong></a></p>\n<p style=text-align: center><strong>Agenda</stron
 g></p>\n<ul>\n<li>Announcement of participating CEC Members and acknow
 ledgement of absences</li>\n<li>Review and Approval of April 2019 CEC 
 Meeting Minutes</li>\n<li>Comments from property owners and CEC member
 s</li>\n<li>Brief review of 50th Anniversary events sponsored by CEC</
 li>\n<li>Update from Department of Public Works &#8211\; Jon Stiffler\
 , Public Works</li>\n<li>Update on 2019 Adopt Contest</li>\n<li>Discus
 sion of Future CEC initiatives</li>\n<li>Schedule for September meetin
 g</li>\n</ul>\n
URL:https://southbethany.delaware.gov/events/community-enhancement-com
 mittee-meeting-2/?lang=en
ATTACH:https://southbethany.delaware.gov/events/community-enhancement-
 committee-meeting-2/?lang=en
LOCATION:Town Hall\, 402 Evergreen Road\, South Bethany
END:VEVENT
END:VCALENDAR
